BEGIN:VCALENDAR
VERSION:2.0
PRODID:-//Cottbuser Bogenschützen - ECPv6.15.20//NONSGML v1.0//EN
CALSCALE:GREGORIAN
METHOD:PUBLISH
X-ORIGINAL-URL:https://cottbuser-bogenschuetzen.de
X-WR-CALDESC:Veranstaltungen für Cottbuser Bogenschützen
REFRESH-INTERVAL;VALUE=DURATION:PT1H
X-Robots-Tag:noindex
X-PUBLISHED-TTL:PT1H
BEGIN:VTIMEZONE
TZID:Europe/Berlin
BEGIN:DAYLIGHT
TZOFFSETFROM:+0100
TZOFFSETTO:+0200
TZNAME:CEST
DTSTART:20240331T010000
END:DAYLIGHT
BEGIN:STANDARD
TZOFFSETFROM:+0200
TZOFFSETTO:+0100
TZNAME:CET
DTSTART:20241027T010000
END:STANDARD
BEGIN:DAYLIGHT
TZOFFSETFROM:+0100
TZOFFSETTO:+0200
TZNAME:CEST
DTSTART:20250330T010000
END:DAYLIGHT
BEGIN:STANDARD
TZOFFSETFROM:+0200
TZOFFSETTO:+0100
TZNAME:CET
DTSTART:20251026T010000
END:STANDARD
BEGIN:DAYLIGHT
TZOFFSETFROM:+0100
TZOFFSETTO:+0200
TZNAME:CEST
DTSTART:20260329T010000
END:DAYLIGHT
BEGIN:STANDARD
TZOFFSETFROM:+0200
TZOFFSETTO:+0100
TZNAME:CET
DTSTART:20261025T010000
END:STANDARD
END:VTIMEZONE
BEGIN:VEVENT
DTSTART;VALUE=DATE:20250225
DTEND;VALUE=DATE:20250227
DTSTAMP:20260425T125018
CREATED:20241124T005749Z
LAST-MODIFIED:20241124T010254Z
UID:3214-1740470400-1740556799@cottbuser-bogenschuetzen.de
SUMMARY:Ausschreibung Powwow Turnier des TSV-Spandau
DESCRIPTION:2025-02-25 Ausschreibung Powwow Turnier des TSV Spandau
URL:https://cottbuser-bogenschuetzen.de/termin/ausschreibung-powwow-turnier-des-tsv-spandau/
LOCATION:TSV-Spandau\, Havelchaussee/Elsgrabenweg\, Berlin-Spandau\, Spandau\, 13597
CATEGORIES:aktuell,Ausschreibungen,Wettkämpfe
END:VEVENT
END:VCALENDAR