BEGIN:VCALENDAR
VERSION:2.0
PRODID:-//Cottbuser Bogenschützen - ECPv6.15.20//NONSGML v1.0//EN
CALSCALE:GREGORIAN
METHOD:PUBLISH
X-ORIGINAL-URL:https://cottbuser-bogenschuetzen.de
X-WR-CALDESC:Veranstaltungen für Cottbuser Bogenschützen
REFRESH-INTERVAL;VALUE=DURATION:PT1H
X-Robots-Tag:noindex
X-PUBLISHED-TTL:PT1H
BEGIN:VTIMEZONE
TZID:Europe/Berlin
BEGIN:DAYLIGHT
TZOFFSETFROM:+0100
TZOFFSETTO:+0200
TZNAME:CEST
DTSTART:20250330T010000
END:DAYLIGHT
BEGIN:STANDARD
TZOFFSETFROM:+0200
TZOFFSETTO:+0100
TZNAME:CET
DTSTART:20251026T010000
END:STANDARD
BEGIN:DAYLIGHT
TZOFFSETFROM:+0100
TZOFFSETTO:+0200
TZNAME:CEST
DTSTART:20260329T010000
END:DAYLIGHT
BEGIN:STANDARD
TZOFFSETFROM:+0200
TZOFFSETTO:+0100
TZNAME:CET
DTSTART:20261025T010000
END:STANDARD
BEGIN:DAYLIGHT
TZOFFSETFROM:+0100
TZOFFSETTO:+0200
TZNAME:CEST
DTSTART:20270328T010000
END:DAYLIGHT
BEGIN:STANDARD
TZOFFSETFROM:+0200
TZOFFSETTO:+0100
TZNAME:CET
DTSTART:20271031T010000
END:STANDARD
END:VTIMEZONE
BEGIN:VEVENT
DTSTART;VALUE=DATE:20260221
DTEND;VALUE=DATE:20260224
DTSTAMP:20260423T152311
CREATED:20251223T181755Z
LAST-MODIFIED:20260108T093554Z
UID:4740-1771660800-1771833599@cottbuser-bogenschuetzen.de
SUMMARY:2026-02-21_AAE_Indoor_Open_in_Halle(Saale)
DESCRIPTION:2026-02-21_Ausschreibung_AAE_Indoor_Open_in_Halle(Saale) \nScorecard-Turnier ! \n  \nDirekt zur Anmelde-Seite: \nhttps://docs.google.com/forms/d/e/1FAIpQLSeuKr5PJNwqmTtp-LZAiOiUXRy1mEdQLQxKWL7IkvN2WdxMOA/viewform \n  \n 
URL:https://cottbuser-bogenschuetzen.de/termin/2026-02-21_aae_indoor_open_in_hallesaale/
LOCATION:Sporthalle Brandberge\, Kreuzvorwerk\, 06120 Halle (Saale)\, Sporthalle Brandberge\, Kreuzvorwerk\, 06120 Halle (Saale)\, 06120 Halle (Saale)\, 06120\, Germany
CATEGORIES:AAE,Ausschreibungen,FITA
ATTACH;FMTTYPE=application/pdf:https://cottbuser-bogenschuetzen.de/wp-content/uploads/2025/12/2025-02-21_Ausschreibung_AAE_Indoor_Open_in_HalleSaale-1.pdf
END:VEVENT
END:VCALENDAR