BEGIN:VCALENDAR
VERSION:2.0
PRODID:-//Cottbuser Bogenschützen - ECPv6.15.20//NONSGML v1.0//EN
CALSCALE:GREGORIAN
METHOD:PUBLISH
X-WR-CALNAME:Cottbuser Bogenschützen
X-ORIGINAL-URL:https://cottbuser-bogenschuetzen.de
X-WR-CALDESC:Veranstaltungen für Cottbuser Bogenschützen
REFRESH-INTERVAL;VALUE=DURATION:PT1H
X-Robots-Tag:noindex
X-PUBLISHED-TTL:PT1H
BEGIN:VTIMEZONE
TZID:Europe/Berlin
BEGIN:DAYLIGHT
TZOFFSETFROM:+0100
TZOFFSETTO:+0200
TZNAME:CEST
DTSTART:20250330T010000
END:DAYLIGHT
BEGIN:STANDARD
TZOFFSETFROM:+0200
TZOFFSETTO:+0100
TZNAME:CET
DTSTART:20251026T010000
END:STANDARD
BEGIN:DAYLIGHT
TZOFFSETFROM:+0100
TZOFFSETTO:+0200
TZNAME:CEST
DTSTART:20260329T010000
END:DAYLIGHT
BEGIN:STANDARD
TZOFFSETFROM:+0200
TZOFFSETTO:+0100
TZNAME:CET
DTSTART:20261025T010000
END:STANDARD
BEGIN:DAYLIGHT
TZOFFSETFROM:+0100
TZOFFSETTO:+0200
TZNAME:CEST
DTSTART:20270328T010000
END:DAYLIGHT
BEGIN:STANDARD
TZOFFSETFROM:+0200
TZOFFSETTO:+0100
TZNAME:CET
DTSTART:20271031T010000
END:STANDARD
END:VTIMEZONE
BEGIN:VEVENT
DTSTART;VALUE=DATE:20260815
DTEND;VALUE=DATE:20260818
DTSTAMP:20260421T011401
CREATED:20260419T175848Z
LAST-MODIFIED:20260419T175848Z
UID:5132-1786780800-1786953599@cottbuser-bogenschuetzen.de
SUMMARY:2026-08-15_DM_3D_DBSV_in_Eichenzell
DESCRIPTION:Ausschreibung:  \n2026-08-15_DM_3D_DBSV_in_Eichenzell \nAnmeldung nur über den Landesverband\, also über den Verein! 
URL:https://cottbuser-bogenschuetzen.de/termin/2026-08-15_dm_3d_dbsv_in_eichenzell/
LOCATION:Schloss Fasanerie in 36124 Eichenzell\, Eichenzell\, 36124\, Germany
CATEGORIES:3-D,Ausschreibungen,DBSV,DM 3D,Wettkämpfe
ATTACH;FMTTYPE=application/pdf:https://cottbuser-bogenschuetzen.de/wp-content/uploads/2026/04/2026-08-15_DM_3D_DBSV_in_Eichenzell-1.pdf
END:VEVENT
END:VCALENDAR