BEGIN:VCALENDAR
VERSION:2.0
PRODID:-//Cottbuser Bogenschützen - ECPv6.15.20//NONSGML v1.0//EN
CALSCALE:GREGORIAN
METHOD:PUBLISH
X-WR-CALNAME:Cottbuser Bogenschützen
X-ORIGINAL-URL:https://cottbuser-bogenschuetzen.de
X-WR-CALDESC:Veranstaltungen für Cottbuser Bogenschützen
REFRESH-INTERVAL;VALUE=DURATION:PT1H
X-Robots-Tag:noindex
X-PUBLISHED-TTL:PT1H
BEGIN:VTIMEZONE
TZID:Europe/Berlin
BEGIN:DAYLIGHT
TZOFFSETFROM:+0100
TZOFFSETTO:+0200
TZNAME:CEST
DTSTART:20230326T010000
END:DAYLIGHT
BEGIN:STANDARD
TZOFFSETFROM:+0200
TZOFFSETTO:+0100
TZNAME:CET
DTSTART:20231029T010000
END:STANDARD
BEGIN:DAYLIGHT
TZOFFSETFROM:+0100
TZOFFSETTO:+0200
TZNAME:CEST
DTSTART:20240331T010000
END:DAYLIGHT
BEGIN:STANDARD
TZOFFSETFROM:+0200
TZOFFSETTO:+0100
TZNAME:CET
DTSTART:20241027T010000
END:STANDARD
BEGIN:DAYLIGHT
TZOFFSETFROM:+0100
TZOFFSETTO:+0200
TZNAME:CEST
DTSTART:20250330T010000
END:DAYLIGHT
BEGIN:STANDARD
TZOFFSETFROM:+0200
TZOFFSETTO:+0100
TZNAME:CET
DTSTART:20251026T010000
END:STANDARD
END:VTIMEZONE
BEGIN:VEVENT
DTSTART;VALUE=DATE:20240914
DTEND;VALUE=DATE:20240915
DTSTAMP:20260424T203958
CREATED:20240606T220011Z
LAST-MODIFIED:20240707T182129Z
UID:2592-1726300800-1726358399@cottbuser-bogenschuetzen.de
SUMMARY:Bogenstand Hundesportverein des PSV
DESCRIPTION:14.09.2024 (Sa)\n \n \nHundesportverein CB\n \n \nSieghard\,\nChristian\, \nClaudia P.\n \nTag der offenen Tür im Hundesportverein des PSV
URL:https://cottbuser-bogenschuetzen.de/termin/bogenstand-hundesportverein-des-psv/
LOCATION:Hudnesportverein des PSV Cottbus
CATEGORIES:Bogenstand,Event
END:VEVENT
BEGIN:VEVENT
DTSTART;TZID=Europe/Berlin:20240918T150000
DTEND;TZID=Europe/Berlin:20240918T200000
DTSTAMP:20260424T203958
CREATED:20240706T220009Z
LAST-MODIFIED:20240707T170446Z
UID:2596-1726671600-1726689600@cottbuser-bogenschuetzen.de
SUMMARY:Bogenstand für die BW beim Gästevergleichsschießen in der Schützengilde Cottbus 1471 e.V.
DESCRIPTION:18.09.2024 (Mi)\n15:00 Uhr\n21:00 Uhr\nCottbus (Gilde-Gelände)\n200\,00 €\nBW Gästevergleichsschießen\,\nSieghard\nTorsten\nRalf\nn.n.
URL:https://cottbuser-bogenschuetzen.de/termin/bogenstand-fuer-die-bw-beim-gaestevergleichsschiessen-in-der-schuetzengilde-cottbus-1471-e-v/
CATEGORIES:aktuell,Bogenstand,Event
END:VEVENT
END:VCALENDAR