BEGIN:VCALENDAR
VERSION:2.0
PRODID:-//Cottbuser Bogenschützen - ECPv6.15.20//NONSGML v1.0//EN
CALSCALE:GREGORIAN
METHOD:PUBLISH
X-WR-CALNAME:Cottbuser Bogenschützen
X-ORIGINAL-URL:https://cottbuser-bogenschuetzen.de
X-WR-CALDESC:Veranstaltungen für Cottbuser Bogenschützen
REFRESH-INTERVAL;VALUE=DURATION:PT1H
X-Robots-Tag:noindex
X-PUBLISHED-TTL:PT1H
BEGIN:VTIMEZONE
TZID:Europe/Berlin
BEGIN:DAYLIGHT
TZOFFSETFROM:+0100
TZOFFSETTO:+0200
TZNAME:CEST
DTSTART:20240331T010000
END:DAYLIGHT
BEGIN:STANDARD
TZOFFSETFROM:+0200
TZOFFSETTO:+0100
TZNAME:CET
DTSTART:20241027T010000
END:STANDARD
BEGIN:DAYLIGHT
TZOFFSETFROM:+0100
TZOFFSETTO:+0200
TZNAME:CEST
DTSTART:20250330T010000
END:DAYLIGHT
BEGIN:STANDARD
TZOFFSETFROM:+0200
TZOFFSETTO:+0100
TZNAME:CET
DTSTART:20251026T010000
END:STANDARD
BEGIN:DAYLIGHT
TZOFFSETFROM:+0100
TZOFFSETTO:+0200
TZNAME:CEST
DTSTART:20260329T010000
END:DAYLIGHT
BEGIN:STANDARD
TZOFFSETFROM:+0200
TZOFFSETTO:+0100
TZNAME:CET
DTSTART:20261025T010000
END:STANDARD
END:VTIMEZONE
BEGIN:VEVENT
DTSTART;TZID=Europe/Berlin:20250412T080000
DTEND;TZID=Europe/Berlin:20250412T170000
DTSTAMP:20260421T103200
CREATED:20250210T000031Z
LAST-MODIFIED:20250326T212605Z
UID:3330-1744444800-1744477200@cottbuser-bogenschuetzen.de
SUMMARY:2025-04-12 - 3D Turnier – 1. Anjagen am Gleis 2025
DESCRIPTION:Nach weniger als einem Jahr seit unserer Gründung als „Cottbuser Bogenschützen“ im PSV Cottbus 90 e.V.\nist es soweit. Wir laden ein zu unserem ersten Turnier auf unserem neuen Gelände.\nAlle um’s Kill … 🙂 \nAktualisierung am 25.03.2025: \nIn der Ausschreibung sind „mindestens“ 15 Ziele angekündigt.\nDie Angabe können wir jetzt konkretisieren: Es werden\n24 Ziele in der 3 Pfeil Runde und \n19 Ziele in der Hunter-Runde 🙂 . \nWer sie von früheren Turnieren in Cottbus kennt\, wird sie nie vergessen und wir können sie wieder anbieten\, die legendären Quarkbällchen.\nDas Catering beim Turnier ist gesichert.\nAb 8 Uhr könnt ihr bei uns auf dem Turniergelände frühstücken\, d.h. Kaffee\, belegte Brötchen und mehr bekommen.\nÜber den Tag gibt es natürlich noch mehr\, sowohl Herzhaftes\, als auch Süßes.\nDie „Speisekarte“ schicken wir per Email an alle\, die sich angemeldet haben. \n2025-04-12_Ausschreibung_Anjagen_am_Gleis_aktualisierte_Version (PDF) \n2025-04-12 Erstes Anjagen am Gleis – Ausschreibung (alte Version) (PDF) \n 
URL:https://cottbuser-bogenschuetzen.de/termin/2025-04-12-3d-turnier-1-anjagen-am-gleis-2025/
LOCATION:Burger Chaussee 5 – 03044 Cottbus\, Burger Chaussee 5 -\, Cottbus\, Brandenburg\, 03044\, Germany
CATEGORIES:aktuell,Ausschreibungen,Wettkämpfe
ATTACH;FMTTYPE=image/jpeg:https://cottbuser-bogenschuetzen.de/wp-content/uploads/2025/02/2025-04-12_Ausschreibung_Anjagen_am_Gleis_aktualisierte_Version.jpg
END:VEVENT
END:VCALENDAR