BEGIN:VCALENDAR
VERSION:2.0
PRODID:-//Cottbuser Bogenschützen - ECPv6.15.20//NONSGML v1.0//EN
CALSCALE:GREGORIAN
METHOD:PUBLISH
X-ORIGINAL-URL:https://cottbuser-bogenschuetzen.de
X-WR-CALDESC:Veranstaltungen für Cottbuser Bogenschützen
REFRESH-INTERVAL;VALUE=DURATION:PT1H
X-Robots-Tag:noindex
X-PUBLISHED-TTL:PT1H
BEGIN:VTIMEZONE
TZID:Europe/Berlin
BEGIN:DAYLIGHT
TZOFFSETFROM:+0100
TZOFFSETTO:+0200
TZNAME:CEST
DTSTART:20240331T010000
END:DAYLIGHT
BEGIN:STANDARD
TZOFFSETFROM:+0200
TZOFFSETTO:+0100
TZNAME:CET
DTSTART:20241027T010000
END:STANDARD
BEGIN:DAYLIGHT
TZOFFSETFROM:+0100
TZOFFSETTO:+0200
TZNAME:CEST
DTSTART:20250330T010000
END:DAYLIGHT
BEGIN:STANDARD
TZOFFSETFROM:+0200
TZOFFSETTO:+0100
TZNAME:CET
DTSTART:20251026T010000
END:STANDARD
BEGIN:DAYLIGHT
TZOFFSETFROM:+0100
TZOFFSETTO:+0200
TZNAME:CEST
DTSTART:20260329T010000
END:DAYLIGHT
BEGIN:STANDARD
TZOFFSETFROM:+0200
TZOFFSETTO:+0100
TZNAME:CET
DTSTART:20261025T010000
END:STANDARD
END:VTIMEZONE
BEGIN:VEVENT
DTSTART;VALUE=DATE:20250926
DTEND;VALUE=DATE:20250930
DTSTAMP:20260420T170408
CREATED:20250201T182745Z
LAST-MODIFIED:20250201T182811Z
UID:3324-1758873600-1759132799@cottbuser-bogenschuetzen.de
SUMMARY:DM Sport des TBVD vom 26-28.09.2025
DESCRIPTION:2025-09-26_bis_28_TBVD_DM_Sport_Ausschreibung
URL:https://cottbuser-bogenschuetzen.de/termin/dm-sport-des-tbvd-vom-26-28-09-2025/
LOCATION:Burg Normannstein 99830 Treffurt\, Burg Normannstein\, Treffurt\, 99830
CATEGORIES:Ausschreibungen,TBVD,Wettkämpfe
END:VEVENT
END:VCALENDAR