BEGIN:VCALENDAR
VERSION:2.0
PRODID:-//Cottbuser Bogenschützen - ECPv6.15.20//NONSGML v1.0//EN
CALSCALE:GREGORIAN
METHOD:PUBLISH
X-WR-CALNAME:Cottbuser Bogenschützen
X-ORIGINAL-URL:https://cottbuser-bogenschuetzen.de
X-WR-CALDESC:Veranstaltungen für Cottbuser Bogenschützen
REFRESH-INTERVAL;VALUE=DURATION:PT1H
X-Robots-Tag:noindex
X-PUBLISHED-TTL:PT1H
BEGIN:VTIMEZONE
TZID:Europe/Berlin
BEGIN:DAYLIGHT
TZOFFSETFROM:+0100
TZOFFSETTO:+0200
TZNAME:CEST
DTSTART:20230326T010000
END:DAYLIGHT
BEGIN:STANDARD
TZOFFSETFROM:+0200
TZOFFSETTO:+0100
TZNAME:CET
DTSTART:20231029T010000
END:STANDARD
BEGIN:DAYLIGHT
TZOFFSETFROM:+0100
TZOFFSETTO:+0200
TZNAME:CEST
DTSTART:20240331T010000
END:DAYLIGHT
BEGIN:STANDARD
TZOFFSETFROM:+0200
TZOFFSETTO:+0100
TZNAME:CET
DTSTART:20241027T010000
END:STANDARD
BEGIN:DAYLIGHT
TZOFFSETFROM:+0100
TZOFFSETTO:+0200
TZNAME:CEST
DTSTART:20250330T010000
END:DAYLIGHT
BEGIN:STANDARD
TZOFFSETFROM:+0200
TZOFFSETTO:+0100
TZNAME:CET
DTSTART:20251026T010000
END:STANDARD
END:VTIMEZONE
BEGIN:VEVENT
DTSTART;VALUE=DATE:20240913
DTEND;VALUE=DATE:20240917
DTSTAMP:20260421T163038
CREATED:20240707T110047Z
LAST-MODIFIED:20240707T170521Z
UID:43-1726192800-1726451999@cottbuser-bogenschuetzen.de
SUMMARY:TBVD DM 2024
DESCRIPTION:2024-09-13_-15_TBVD DM 3D Ausschreibung 3-D Sport 2024 – Traditioneller Bogensport Verband Deutschland
URL:https://cottbuser-bogenschuetzen.de/termin/tbvd-dm-2024/
CATEGORIES:Ausschreibungen,DM 3D,TBVD,Wettkämpfe
END:VEVENT
END:VCALENDAR