BEGIN:VCALENDAR
VERSION:2.0
PRODID:-//Cottbuser Bogenschützen - ECPv6.15.20//NONSGML v1.0//EN
CALSCALE:GREGORIAN
METHOD:PUBLISH
X-WR-CALNAME:Cottbuser Bogenschützen
X-ORIGINAL-URL:https://cottbuser-bogenschuetzen.de
X-WR-CALDESC:Veranstaltungen für Cottbuser Bogenschützen
REFRESH-INTERVAL;VALUE=DURATION:PT1H
X-Robots-Tag:noindex
X-PUBLISHED-TTL:PT1H
BEGIN:VTIMEZONE
TZID:Europe/Berlin
BEGIN:DAYLIGHT
TZOFFSETFROM:+0100
TZOFFSETTO:+0200
TZNAME:CEST
DTSTART:20250330T010000
END:DAYLIGHT
BEGIN:STANDARD
TZOFFSETFROM:+0200
TZOFFSETTO:+0100
TZNAME:CET
DTSTART:20251026T010000
END:STANDARD
BEGIN:DAYLIGHT
TZOFFSETFROM:+0100
TZOFFSETTO:+0200
TZNAME:CEST
DTSTART:20260329T010000
END:DAYLIGHT
BEGIN:STANDARD
TZOFFSETFROM:+0200
TZOFFSETTO:+0100
TZNAME:CET
DTSTART:20261025T010000
END:STANDARD
BEGIN:DAYLIGHT
TZOFFSETFROM:+0100
TZOFFSETTO:+0200
TZNAME:CEST
DTSTART:20270328T010000
END:DAYLIGHT
BEGIN:STANDARD
TZOFFSETFROM:+0200
TZOFFSETTO:+0100
TZNAME:CET
DTSTART:20271031T010000
END:STANDARD
END:VTIMEZONE
BEGIN:VEVENT
DTSTART;VALUE=DATE:20260425
DTEND;VALUE=DATE:20260427
DTSTAMP:20260425T013012
CREATED:20260108T095802Z
LAST-MODIFIED:20260108T095802Z
UID:4798-1777104000-1777190399@cottbuser-bogenschuetzen.de
SUMMARY:2026-04-25_BHL_Ausschreibung_9_Frühlingsturnier_Torgelow
DESCRIPTION:2026-04-25_BHL_Ausschreibung_9_Frühlingsturnier_Torgelow
URL:https://cottbuser-bogenschuetzen.de/termin/2026-04-25_bhl_ausschreibung_9_fruehlingsturnier_torgelow/
CATEGORIES:3-D,Wettkämpfe
ATTACH;FMTTYPE=application/pdf:https://cottbuser-bogenschuetzen.de/wp-content/uploads/2026/01/2026-04-25_BHL_Ausschreibung_9_Fruehlingsturnier_Torgelow-1.pdf
END:VEVENT
END:VCALENDAR